Workbook

Sheet True cost
A1: True cost per piece (landed cost)
A2: Write one piece of your collection in each column. The last row is your true cost.
A4: Item | B4: Piece 1 (example) | C4: Piece 2 | D4: Piece 3 | E4: Piece 4 | F4: Piece 5
A5: Piece name | B5: Hero shirt
A6: Fabric | B6: 6
A7: Manufacturing labor | B7: 4
A8: Trims | B8: 1.5
A9: Packaging and labels | B9: 0.5
A10: Factory price (sum of lines) | B10: =SUM(B6:B9) | C10: =SUM(C6:C9) | D10: =SUM(D6:D9) | E10: =SUM(E6:E9) | F10: =SUM(F6:F9)
A11: Shipping per piece | B11: 1.5
A12: Duty rate (example 5%) | B12: 0.05
A13: Inspection and transfer fees | B13: 0.8
A14: Samples and patterns spread per piece | B14: 0
A15: Duty amount | B15: =(B10+B11)*B12 | C15: =(C10+C11)*C12 | D15: =(D10+D11)*D12 | E15: =(E10+E11)*E12 | F15: =(F10+F11)*F12
A16: True cost per piece | B16: =B10+B11+B15+B13+B14 | C16: =C10+C11+C15+C13+C14 | D16: =D10+D11+D15+D13+D14 | E16: =E10+E11+E15+E13+E14 | F16: =F10+F11+F15+F13+F14
A18: You fill the yellow cells and the rest is calculated automatically. The numbers already in the file are illustrative examples that explain the method, not market prices.

Sheet Pricing
A1: Pricing calculator: markup, margin and wholesale price
A2: The cost comes from the first sheet. Write the proposed retail price in the yellow cell.
A4: Piece | B4: True cost | C4: Proposed retail price | D4: Markup | E4: Margin | F4: Wholesale price (half of retail) | G4: Wholesale margin
A5: =IF('True cost'!B5="","",'True cost'!B5) | B5: ='True cost'!B16 | C5: 45 | D5: =IF(AND(B5>0,N(C5)>0),C5/B5,"") | E5: =IF(AND(B5>0,N(C5)>0),(C5-B5)/C5,"") | F5: =IF(N(C5)>0,C5/2,"") | G5: =IF(AND(B5>0,N(C5)>0),(F5-B5)/F5,"")
A6: =IF('True cost'!C5="","",'True cost'!C5) | B6: ='True cost'!C16 | D6: =IF(AND(B6>0,N(C6)>0),C6/B6,"") | E6: =IF(AND(B6>0,N(C6)>0),(C6-B6)/C6,"") | F6: =IF(N(C6)>0,C6/2,"") | G6: =IF(AND(B6>0,N(C6)>0),(F6-B6)/F6,"")
A7: =IF('True cost'!D5="","",'True cost'!D5) | B7: ='True cost'!D16 | D7: =IF(AND(B7>0,N(C7)>0),C7/B7,"") | E7: =IF(AND(B7>0,N(C7)>0),(C7-B7)/C7,"") | F7: =IF(N(C7)>0,C7/2,"") | G7: =IF(AND(B7>0,N(C7)>0),(F7-B7)/F7,"")
A8: =IF('True cost'!E5="","",'True cost'!E5) | B8: ='True cost'!E16 | D8: =IF(AND(B8>0,N(C8)>0),C8/B8,"") | E8: =IF(AND(B8>0,N(C8)>0),(C8-B8)/C8,"") | F8: =IF(N(C8)>0,C8/2,"") | G8: =IF(AND(B8>0,N(C8)>0),(F8-B8)/F8,"")
A9: =IF('True cost'!F5="","",'True cost'!F5) | B9: ='True cost'!F16 | D9: =IF(AND(B9>0,N(C9)>0),C9/B9,"") | E9: =IF(AND(B9>0,N(C9)>0),(C9-B9)/C9,"") | F9: =IF(N(C9)>0,C9/2,"") | G9: =IF(AND(B9>0,N(C9)>0),(F9-B9)/F9,"")
A11: You fill the yellow cells and the rest is calculated automatically. The numbers already in the file are illustrative examples that explain the method, not market prices.
